BEGIN:VCALENDAR
VERSION:2.0
PRODID:-//hacksw/handcal//NONSGML v1.0//EN
BEGIN:VEVENT
SUMMARY:US ARON D / LASSAY LE HORPS C
UID:5e3b99f5-6d63-4836-960e-449237546de8
DTSTART:20260419T103000Z
DTEND:20260419T220000Z
LOCATION:Localisation   
CATEGORIES:Sportif
STATUS:
URL;VALUE=URI:https://www.us-aron.com/evenements/2026/04/19/us-aron-d-lassay-le-horps-c-2436046
END:VEVENT
END:VCALENDAR
