BEGIN:VCALENDAR
VERSION:2.0
PRODID:-//hacksw/handcal//NONSGML v1.0//EN
BEGIN:VEVENT
SUMMARY:CHANTRIGNE A / US ARON A
UID:20a52541-0693-47a9-ba17-d15e15ebcbf6
DTSTART:20260419T130000Z
DTEND:20260419T220000Z
LOCATION:Localisation   
CATEGORIES:Sportif
STATUS:
URL;VALUE=URI:https://www.us-aron.com/evenements/2026/04/19/chantrigne-a-us-aron-a-2436048
END:VEVENT
END:VCALENDAR
