BEGIN:VCALENDAR
VERSION:2.0
PRODID:-//hacksw/handcal//NONSGML v1.0//EN
BEGIN:VEVENT
SUMMARY:ARON B / LE GENEST A
UID:2c0ad83a-4d10-4830-8cc5-7ecc8cc275a4
DTSTART:20260419T130000Z
DTEND:20260419T220000Z
LOCATION:Localisation   
CATEGORIES:Sportif
STATUS:
URL;VALUE=URI:https://www.us-aron.com/evenements/2026/04/19/aron-b-le-genest-a-2436049
END:VEVENT
END:VCALENDAR
