BEGIN:VCALENDAR
VERSION:2.0
PRODID:-//hacksw/handcal//NONSGML v1.0//EN
BEGIN:VEVENT
SUMMARY:US ARON FUTSAL / MAYENNE MAREAU
UID:98e9ed0c-cbca-4876-bcbe-fa5427fe603d
DTSTART:20260416T180000Z
DTEND:20260416T220000Z
LOCATION:Localisation   
CATEGORIES:Sportif
STATUS:
URL;VALUE=URI:https://www.us-aron.com/evenements/2026/04/16/us-aron-futsal-mayenne-mareau-2436045
END:VEVENT
END:VCALENDAR
