BEGIN:VCALENDAR
VERSION:2.0
PRODID:-//hacksw/handcal//NONSGML v1.0//EN
BEGIN:VEVENT
SUMMARY:US ARON A / PAYS DE JUHEL A
UID:cc16fb26-8f03-4799-bee1-17d851760ace
DTSTART:20260412T130000Z
DTEND:20260412T220000Z
LOCATION:Localisation   
CATEGORIES:Sportif
STATUS:
URL;VALUE=URI:https://www.us-aron.com/evenements/2026/04/12/us-aron-a-pays-de-juhel-a-2430354
END:VEVENT
END:VCALENDAR
