BEGIN:VCALENDAR
VERSION:2.0
PRODID:-//hacksw/handcal//NONSGML v1.0//EN
BEGIN:VEVENT
SUMMARY:PAYS DE JUHEL B / ARON B
UID:a752961f-6808-4aec-a11e-dc9f4bc50cf5
DTSTART:20260412T130000Z
DTEND:20260412T220000Z
LOCATION:Localisation   
CATEGORIES:Sportif
STATUS:
URL;VALUE=URI:https://www.us-aron.com/evenements/2026/04/12/pays-de-juhel-b-aron-b-2436025
END:VEVENT
END:VCALENDAR
