BEGIN:VCALENDAR
VERSION:2.0
PRODID:-//hacksw/handcal//NONSGML v1.0//EN
BEGIN:VEVENT
SUMMARY:GRAZAY B /ARON D (a Aron)
UID:960703fd-bff5-4338-b8f8-cdff66c240af
DTSTART:20260412T110000Z
DTEND:20260412T220000Z
LOCATION:Localisation   
CATEGORIES:Sportif
STATUS:
URL;VALUE=URI:https://www.us-aron.com/evenements/2026/04/12/grazay-b-aron-d-a-aron-2430358
END:VEVENT
END:VCALENDAR
