BEGIN:VCALENDAR
VERSION:2.0
PRODID:-//hacksw/handcal//NONSGML v1.0//EN
BEGIN:VEVENT
SUMMARY:ST MAYENNAIS C / ENT U15B
UID:95e36a38-21ec-441a-b898-49ae46aec31b
DTSTART:20260411T130000Z
DTEND:20260411T220000Z
LOCATION:Localisation   
CATEGORIES:Sportif
STATUS:
URL;VALUE=URI:https://www.us-aron.com/evenements/2026/04/11/st-mayennais-c-ent-u15b-2436041
END:VEVENT
END:VCALENDAR
