BEGIN:VCALENDAR
VERSION:2.0
PRODID:-//hacksw/handcal//NONSGML v1.0//EN
BEGIN:VEVENT
SUMMARY:ENT U17 / GJ HBG A
UID:694ff083-3d91-44f8-90e4-95e71cc984de
DTSTART:20260411T130000Z
DTEND:20260411T220000Z
LOCATION:Localisation   
CATEGORIES:Sportif
STATUS:
URL;VALUE=URI:https://www.us-aron.com/evenements/2026/04/11/ent-u17-gj-hbg-a-2436035
END:VEVENT
END:VCALENDAR
