BEGIN:VCALENDAR
VERSION:2.0
PRODID:-//hacksw/handcal//NONSGML v1.0//EN
BEGIN:VEVENT
SUMMARY:ENT U15 F ST MAYENNAIS / ENT U15 A
UID:0bce06c5-3025-4819-8cf6-c932f7451fde
DTSTART:20260411T173000Z
DTEND:20260411T220000Z
LOCATION:Localisation   
CATEGORIES:Sportif
STATUS:
URL;VALUE=URI:https://www.us-aron.com/evenements/2026/04/11/ent-u15-f-st-mayennais-ent-u15-a-2436040
END:VEVENT
END:VCALENDAR
