BEGIN:VCALENDAR
VERSION:2.0
PRODID:-//hacksw/handcal//NONSGML v1.0//EN
BEGIN:VEVENT
SUMMARY:ENT ST GERMAIN VALLEE / ENT U13B
UID:2713a228-529f-4c28-8508-0b7f9a9dd77f
DTSTART:20260411T113000Z
DTEND:20260411T220000Z
LOCATION:Localisation   
CATEGORIES:Sportif
STATUS:
URL;VALUE=URI:https://www.us-aron.com/evenements/2026/04/11/ent-st-germain-vallee-ent-u13b-2436031
END:VEVENT
END:VCALENDAR
