BEGIN:VCALENDAR
VERSION:2.0
PRODID:-//hacksw/handcal//NONSGML v1.0//EN
BEGIN:VEVENT
SUMMARY:US ARON FUTSAL / FC AISNES (forfait Aron)
UID:8fa8b37e-c517-47b6-82eb-17a41fcf3d42
DTSTART:20260409T180000Z
DTEND:20260409T220000Z
LOCATION:Localisation   
CATEGORIES:Sportif
STATUS:
URL;VALUE=URI:https://www.us-aron.com/evenements/2026/04/09/us-aron-futsal-fc-aisnes-forfait-aron-2430353
END:VEVENT
END:VCALENDAR
